BEGIN:VCALENDAR
VERSION:2.0
PRODID:-//eventon.com NONSGML v1.0//EN
CALSCALE:GREGORIAN
METHOD:PUBLISH
BEGIN:VEVENT
UID:69e9eaf7c975e
DTSTAMP:20260423T094839Z
DTSTART:20260427T060000Z
DTEND:20260501T060000Z
LOCATION:
SUMMARY:Summer 2025/26 - Monthly Payment 2- May
DESCRIPTION:Monthly Payments: Monthly payments are based off your Estimated
  Headcount you submitted. This week you will receive your second monthly in
 stalment. Monthly payments are paid in advance so this payment will be for 
 May.\nhttps://fundedhours.bristolearlyyears.org.uk/events/summer-2025-26-he
 adcount-and-census/
URL:https://fundedhours.bristolearlyyears.org.uk/events/summer-2025-26-headcount-and-census/
END:VEVENT
END:VCALENDAR