BEGIN:VCALENDAR
VERSION:2.0
PRODID:-//eventon.com NONSGML v1.0//EN
CALSCALE:GREGORIAN
METHOD:PUBLISH
BEGIN:VEVENT
UID:69e4d53e28a60
DTSTAMP:20260419T131438Z
DTSTART:20260615T070000Z
DTEND:20260619T070000Z
LOCATION:
SUMMARY:Summer 2025/26 - Final Headcount Payment ( Termly 30% or 100%)
DESCRIPTION:Termly Payments: This termly payment is based on your Headcount
  submitted last month. If you submitted an Estimated Headcount you will rec
 eive the remaining 30% due (if your Estimated Headcount and Headcount match
 ) if your 2 submissions differ we will recalculate your funding and either 
 issue a small payment or[..]\nhttps://fundedhours.bristolearlyyears.org.uk/
 events/summer-2025-26-final-headcount-payment-termly-30-or-100/
URL:https://fundedhours.bristolearlyyears.org.uk/events/summer-2025-26-final-headcount-payment-termly-30-or-100/
END:VEVENT
END:VCALENDAR