BEGIN:VCALENDAR
VERSION:2.0
PRODID:-//eventon.com NONSGML v1.0//EN
CALSCALE:GREGORIAN
METHOD:PUBLISH
BEGIN:VEVENT
UID:69e7326696f8e
DTSTAMP:20260421T081638Z
DTSTART:20260525T070000Z
DTEND:20260529T070000Z
LOCATION:
SUMMARY:Summer 2025/26 - Monthly Payment 3 - June
DESCRIPTION:Monthly Payments: This monthly payment is based on your Headcou
 nt submitted last month. We reconcile your Estimated Headcount claim to you
 r Headcount claim. This week you will receive your third monthly instalment
 . Monthly instalments are paid in advance so this payment will be for June.
 \nhttps://fundedhours.bristolearlyyears.org.uk/events/summer-2025-26-monthl
 y-payment-3-june/
URL:https://fundedhours.bristolearlyyears.org.uk/events/summer-2025-26-monthly-payment-3-june/
END:VEVENT
END:VCALENDAR