BEGIN:VCALENDAR
VERSION:2.0
PRODID:-//eventon.com NONSGML v1.0//EN
CALSCALE:GREGORIAN
METHOD:PUBLISH
BEGIN:VEVENT
UID:69e7329b604e7
DTSTAMP:20260421T081731Z
DTSTART:20260622T070000Z
DTEND:20260626T070000Z
LOCATION:
SUMMARY:Summer 2025/26 - Monthly Payment 4 - July
DESCRIPTION:Monthly Payments: Monthly payments are based off your Estimated
  Headcount you submitted. This week you will receive your fourth monthly in
 stalment. Monthly payments are paid in advance so this payment will be for 
 July. If you only have Term Time Only children this will be your final inst
 alment for the[..]\nhttps://fundedhours.bristolearlyyears.org.uk/events/sum
 mer-2025-26-monthly-payment-4-july/
URL:https://fundedhours.bristolearlyyears.org.uk/events/summer-2025-26-monthly-payment-4-july/
END:VEVENT
END:VCALENDAR