BEGIN:VCALENDAR
VERSION:2.0
PRODID:-//eventon.com NONSGML v1.0//EN
CALSCALE:GREGORIAN
METHOD:PUBLISH
BEGIN:VEVENT
UID:69e732af516d2
DTSTAMP:20260421T081751Z
DTSTART:20260701T070000Z
DTEND:20260731T070000Z
LOCATION:
SUMMARY:Autumn 2026/27 Estimated Headcount
DESCRIPTION:It is time to submit your Autumn Term Estimated Headcount. What
  is an Estimated Headcount? An Estimated Headcount is a prediction of the n
 umber of children and funded hours you will be claiming for for the next te
 rm. You can submit your Estimated Headcount through the Provider Portal\,  
 you will[..]\nhttps://fundedhours.bristolearlyyears.org.uk/events/autumn-te
 rm-2026-27-estimated-headcount/
URL:https://fundedhours.bristolearlyyears.org.uk/events/autumn-term-2026-27-estimated-headcount/
END:VEVENT
END:VCALENDAR