BEGIN:VCALENDAR
VERSION:2.0
PRODID:-//eventon.com NONSGML v1.0//EN
CALSCALE:GREGORIAN
METHOD:PUBLISH
BEGIN:VEVENT
UID:69e73272f3a5d
DTSTAMP:20260421T081650Z
DTSTART:20260727T070000Z
DTEND:20260731T070000Z
LOCATION:
SUMMARY:Summer 2025/26 - Monthly Payment 5 - August
DESCRIPTION:Monthly Payments: Monthly payments are based off your Estimated
  Headcount you submitted. This week you will receive your fifth monthly ins
 talment. Monthly payments are paid in advance so this payment will be for A
 ugust. This will be your last monthly instalment for the term for your All 
 Year Round children.&nbsp;\nhttps://fundedhours.bristolearlyyears.org.uk/ev
 ents/summer-2025-26-monthly-payment-5-august/
URL:https://fundedhours.bristolearlyyears.org.uk/events/summer-2025-26-monthly-payment-5-august/
END:VEVENT
END:VCALENDAR