BEGIN:VCALENDAR
VERSION:2.0
PRODID:-//eventon.com NONSGML v1.0//EN
CALSCALE:GREGORIAN
METHOD:PUBLISH
BEGIN:VEVENT
UID:69e7327310b1b
DTSTAMP:20260421T081651Z
DTSTART:20260520T230000Z
DTEND:20260529T225900Z
LOCATION:
SUMMARY:Summer 2025/26 – Headcount and Census
DESCRIPTION:It is time to submit your Summer Term Headcount and Census retu
 rn. What is a Headcount? A Headcount is a termly submission of the children
  and hours you are claiming for. What is a census? A census is a declaratio
 n about the Provider that the Council has a statutory duty[..]\nhttps://fun
 dedhours.bristolearlyyears.org.uk/events/summer-2025-26-headcount-and-censu
 s-2/
URL:https://fundedhours.bristolearlyyears.org.uk/events/summer-2025-26-headcount-and-census-2/
END:VEVENT
END:VCALENDAR